BEGIN:VCALENDAR
VERSION:2.0
PRODID:-//eventon.com NONSGML v1.0//EN
CALSCALE:GREGORIAN
METHOD:PUBLISH
BEGIN:VEVENT
UID:69e867f54c8a5
DTSTAMP:20260422T061725Z
DTSTART:20260523T200000Z
DTEND:20260523T132300Z
LOCATION:37269 Eschwege
SUMMARY:solo
DESCRIPTION:solo\nhttps://ignaznetzer.de/events/solo-12/
URL:https://ignaznetzer.de/events/solo-12/
END:VEVENT
END:VCALENDAR