BEGIN:VCALENDAR
VERSION:2.0
PRODID:-//eventon.com NONSGML v1.0//EN
CALSCALE:GREGORIAN
METHOD:PUBLISH
BEGIN:VEVENT
UID:69e86739d9153
DTSTAMP:20260422T061417Z
DTSTART:20260530T190000Z
DTEND:20260530T235900Z
LOCATION:35083 Wetter
SUMMARY:solo
DESCRIPTION:solo\nhttps://ignaznetzer.de/events/solo-2/
URL:https://ignaznetzer.de/events/solo-2/
END:VEVENT
END:VCALENDAR