BEGIN:VCALENDAR
VERSION:2.0
PRODID:-//eventon.com NONSGML v1.0//EN
CALSCALE:GREGORIAN
METHOD:PUBLISH
BEGIN:VEVENT
UID:69e86759c70d7
DTSTAMP:20260422T061449Z
DTSTART:20260614T180000Z
DTEND:20260614T235900Z
LOCATION:66957 Vinningen
SUMMARY:solo
DESCRIPTION:solo\nhttps://ignaznetzer.de/events/solo-8/
URL:https://ignaznetzer.de/events/solo-8/
END:VEVENT
END:VCALENDAR