BEGIN:VCALENDAR
VERSION:2.0
PRODID:-//eventon.com NONSGML v1.0//EN
CALSCALE:GREGORIAN
METHOD:PUBLISH
BEGIN:VEVENT
UID:69e8660e5896d
DTSTAMP:20260422T060918Z
DTSTART:20260716T190000Z
DTEND:20260716T235900Z
LOCATION:89134 Blaustein
SUMMARY:solo
DESCRIPTION:solo\nhttps://ignaznetzer.de/events/solo-21/
URL:https://ignaznetzer.de/events/solo-21/
END:VEVENT
END:VCALENDAR