BEGIN:VCALENDAR
VERSION:2.0
PRODID:-//eventon.com NONSGML v1.0//EN
CALSCALE:GREGORIAN
METHOD:PUBLISH
BEGIN:VEVENT
UID:69e86818a5351
DTSTAMP:20260422T061800Z
DTSTART:20260719T100000Z
DTEND:20260719T235900Z
LOCATION:
SUMMARY:Workshop Bluesgitarre s. 17.07.
DESCRIPTION:Workshop Bluesgitarre s. 17.07.\nhttps://ignaznetzer.de/events/
 workshop-bluesgitarre-s-17-07-2/
URL:https://ignaznetzer.de/events/workshop-bluesgitarre-s-17-07-2/
END:VEVENT
END:VCALENDAR