BEGIN:VCALENDAR
VERSION:2.0
PRODID:-//eventon.com NONSGML v1.0//EN
CALSCALE:GREGORIAN
METHOD:PUBLISH
BEGIN:VEVENT
UID:69e8660e4be09
DTSTAMP:20260422T060918Z
DTSTART:20260809T150000Z
DTEND:20260809T235900Z
LOCATION:25335 Elmshorn
SUMMARY:solo
DESCRIPTION:solo\nhttps://ignaznetzer.de/events/solo-24/
URL:https://ignaznetzer.de/events/solo-24/
END:VEVENT
END:VCALENDAR