BEGIN:VCALENDAR
VERSION:2.0
PRODID:-//eventon.com NONSGML v1.0//EN
CALSCALE:GREGORIAN
METHOD:PUBLISH
BEGIN:VEVENT
UID:69e865ea4e8d1
DTSTAMP:20260422T060842Z
DTSTART:20260612T183000Z
DTEND:20260612T235900Z
LOCATION:79219 Staufen
SUMMARY:solo
DESCRIPTION:solo\nhttps://ignaznetzer.de/events/solo-3/
URL:https://ignaznetzer.de/events/solo-3/
END:VEVENT
END:VCALENDAR